Workbook
Name unit_ddown: units[toggle]
Name units_drop_down: #REF!

Sheet GUIDELINES
A1: ONTARIO CREATES INTELLECTUAL PROPERTY FUND Budget and Financing Guidelines and Template Interactive Content Stream - Futures Forward For 2026-27 Deadline - updated September 8, 2026
A2: Budgets for Futures Forward Interactive Content applications must be on this template.
A4: Templates | B4: Budgets must be submitted on the template provided (this document). In order to be considered complete all relevant sheets in the budget template must be complete.
B5: Budgets must be submitted in Excel format. PDF versions will not be accepted.
B6: Ontario Creates has taken care to ensure that the formulas in this template are correct. If you discover any errors please email us at ipfund@ontariocreates.ca.
B7: Errors can occur when numbers are manually entered in cells that contain formulas and when rows are added or subtracted. Ontario Creates takes no responsibility for the accuracy of your budget. Please check your budget carefully including subtotals, totals and formulas prior to submission.
B8: List of Tabs Cover - Summary of schedule and Ontario expenses Summary - Presentation of costs by Category Detail - Beakdown of costs by Category Financing - Summary of financing sources Notes - Explanations for budget and financing line items (optional)
A9: Financing Considerations | B9: All financing sources should be listed on the Financing tab. The Futures Forward Program is a last-in participant in project financing. All contributions, other than the Futures Forward request amount, must be confirmed in writing at the time of application as outlined below. Applicants may request up to 75% of the total budget, to a maximum of $20,000. Ontario expenses must account for no less than 75% of the total budget.
B10: Financing may come from Internal, Related or External Parties in the form of cash and non-cash contributions.
B11: Cash contributions from Applicant/Internal/Related Parties must be confirmed in writing with statements or signed letters from financial institutions that demonstrate the contribution is available.
B12: Cash contributions from External Parties must be confirmed in writing with signed letters or agreements including, at minimum, the following details: - date - type of financing (e.g. advance, investment, grant) - amount of contribution - total and date of budget - reference to the project being financed - payment schedule or proposed drawdown (if applicable) Statements or signed letters from financial institutions may also be included to support the contribution. Additionally, Ontario Creates reserves the right to request a statement or letter from a financial institution that demonstrates the contribution is available.
B13: Non-cash contributions (deferrals, donations, discounts, in-kind) must be confirmed in writing with signed letters or agreements including, at minimum, the following details: - date - description and value of goods and/or services to be provided - budget accounts and categories - amount of contribution Each contribution must be listed on a separate line item in the Financing Plan. Contributions against contingency are not permitted.
B14: Projects that are under review at the corresponding deadline with other recognized industry funds (e.g. Canada Media Fund) will be considered provided financing is confirmed in advance of a formal Ontario Creates funding commitment.
B15: Financing and expenses associated with activities that typically occur outside of the phase for which the application is being submitted cannot be used to make up the balance of the financing required. Similarly, costs associated with these activities should not be included in the Budget or Finacing Plan.
A16: Budget Considerations | B16: Expenses incurred prior to submission of the application are not eligible. All activities must be complete, and expenses incurred at the conclusion of the program period.
B17: Provide details, notes and agreements explaining the estimates in your budget. Use the Notes tab if necessary. Quotes for third party goods and services may be included where appropriate. All budget items must be assessed at market value.
B18: Labour: All labour rates must be estimated at actual cost to be paid to the employee or subcontractor/freelancer, broken down in consistent units of either hours, days or weeks. Corporate mark-up, overhead fees, or pro-rata equipment costs may not be included in the calculation of labour rates. The range of these fees are normally as follows: - Junior personnel (1-3 years’ experience): $18 to $30 / hour - Assistant Designers, Illustrators, Assistant Graphic Artists, Programmers (low-end), Testers, Administrative Labour, etc. - Intermediate personnel (3-9 years’ experience): $30 to $60 / hour - Project Coordinators, Leads, Graphic Designers, Storyboard Artists, Programmers (mid-range), etc. - Senior personnel (10+ years’ experience): $55 to $100 / hour - Leads (high-end), Project Managers, Specialized Design Personnel, Art Directors, Specialized Programmers and Integrators, etc.
B19: Disclosure of Personnel: Budgets must include names and companies of all confirmed employees/contractors in the appropriate budget category.
B20: A Producer must oversee all aspects of the project and therefore may not participate in most other roles. On smaller-budgeted projects a Producer may perform other roles and be budgeted in appropriate categories. A detailed rationale must be provided under these circumstances. Note that employees/contractors performing multiple roles will be reviewed for reasonableness of tasks and duration.
B21: Equipment and Materials: All goods and services must be specifically required for the project. Costs may reflect actual rental costs or amortized purchase price at market value (hardware - 24 month straight depreciation method / software 12 month straight depreciation method). Costs may not include corporate mark-up or overhead fees.
B22: Rights Acquisition: Rights acquisition includes costs associated with licensing copyright material and intellectual property rights for use in the project. Cost for original video or audio production must be estimated in the appropriate sections of the budget template and should not be included in this category.

Sheet Cover 
A1: ONTARIO CREATES INTELLECTUAL PROPERTY FUND Budget and Financing Guidelines and Template Cover Tab
A2: INSTRUCTIONS: Cells highlighted in blue contain formulas, headers, rules and instructions. Do not enter information directly into these cells.
A4: Project Title
A5: Applicant Company
A7: TIMELINE | B7: START DATE Month DD, YYYY | C7: END DATE Month DD, YYYY | D7: DURATION (WEEKS)
D8: =DATEDIF(B8,C8,"D")/7 -> 0
A10: ONTARIO EXPENSES | B10: CASH | C10: NON-CASH | D10: TOTAL
A11: Labour | B11: =Detail!Q17+Detail!Q50+Detail!Q65+Detail!Q76+Detail!Q93+Detail!Q101+Detail!Q108+Detail!Q121 -> 0 | C11: =Detail!R17+Detail!R50+Detail!R65+Detail!R76+Detail!R93+Detail!R101+Detail!R108+Detail!R121 -> 0 | D11: =B11+C11 -> 0
A12: Non-Labour | B12: =Detail!Q28+Detail!Q34+Detail!Q138+Detail!Q155+Detail!Q173+Detail!Q195+Detail!Q209+Detail!Q214+Detail!Q215 -> 0 | C12: =Detail!R28+Detail!R34+Detail!R138+Detail!R155+Detail!R173+Detail!R195+Detail!R209+Detail!R214+Detail!R215 -> 0 | D12: =B12+C12 -> 0
A13: Total Ontario Spend | B13: =B11+B12 -> 0 | C13: =C11+C12 -> 0 | D13: =D11+D12 -> 0 | E13: Ontario expenses must account for no less than 75% of the total budget
A15: Total Budget | B15: =Summary!C35 -> 0
A16: Total Ontario Spend | B16: =D11+D12 -> 0
A17: Futures Forward Request | B17: =Financing!C7 -> 0
A18: IP Fund Request as % of Ontario Spend | B18: =IF(D13,B17/D13,0) -> 0 | C18: Total request cannot exceed 75% of Budget Total
A20: Total Count | B20: =Detail!E17+Detail!E50+Detail!E65+Detail!E76+Detail!E93+Detail!E101+Detail!E108+Detail!E121 -> 0
A21: Units | B21: =Detail!C7 -> -
A22: Total Weeks of Work | B22: =IF(B21="hours", B20/35, IF(B21="days", B20/5, IF(B21="weeks", B20/1, "0"))) -> 0
A24: Budget Prepared By
A25: Budget Date

Sheet Summary
A1: ONTARIO CREATES INTELLECTUAL PROPERTY FUND Budget and Financing Guidelines and Template Summary Tab
A2: INSTRUCTIONS: Cells highlighted in blue contain formulas, headers, rules and instructions. Do not enter information directly into these cells.
A4: Account | B4: Category | C4: Total
A7: 01 | B7: PRODUCER | C7: =Detail!K17 -> 0 | E7: =IF(C7>(C19+C23)*0.1, "ERROR - Producer exceeds 10% of budget sections B+C", "")
A8: 02 | B8: RIGHTS ACQUISITION | C8: =Detail!K28 -> 0
A9: 03 | B9: PROJECT PROPOSAL PREPARATION - N/A - INELIGIBLE EXPENSE | C9: =Detail!K34 -> 0
B10: TOTAL A - PRODUCER | C10: =SUM(C7:C9) -> 0
A12: 04 | B12: KEY ROLES | C12: =Detail!K50 -> 0
A13: 05 | B13: DESIGN LABOUR | C13: =Detail!K65 -> 0
A14: 06 | B14: PROGRAMMING LABOUR | C14: =Detail!K76 -> 0
A15: 07 | B15: AUDIO/VIDEO LABOUR | C15: =Detail!K93 -> 0
A16: 08 | B16: TALENT | C16: =Detail!K101 -> 0
A17: 09 | B17: ADMINISTRATION LABOUR | C17: =Detail!K108 -> 0
A18: 10 | B18: OTHER LABOUR | C18: =Detail!K121 -> 0
B19: TOTAL B - TEAM LABOUR | C19: =SUM(C12:C18) -> 0
A21: 11 | B21: EQUIPMENT AND MATERIALS | C21: =Detail!K138 -> 0
A22: 12 | B22: AUDIO/VIDEO EQUIPMENT AND MATERIALS | C22: =Detail!K155 -> 0
B23: TOTAL C - EQUIPMENT AND MATERIALS | C23: =SUM(C21:C22) -> 0
A25: 13 | B25: MARKETING AND EXPLOITATION | C25: =Detail!K173 -> 0
A26: 14 | B26: PROMOTION AND PUBLICITY | C26: =Detail!K195 -> 0
B27: TOTAL D - MARKETING, EXPLOITATION, PROMOTION AND PUB. | C27: =SUM(C25:C26) -> 0 | E27: =IF(C27>(C19+C23)*0.3, "ERROR - Marketing, Exploitation, Promotion and Pub exceeds 30% of budget sections B+C", "")
A29: 15 | B29: ADMINISTRATION | C29: =Detail!K209 -> 0
B30: TOTAL E - ADMINISTRATION | C30: =SUM(C29) -> 0
A32: F | B32: CORPORATE OVERHEAD | C32: =Detail!K214 -> 0 | E32: =IF(C32>(C19+C23)*0.1, "ERROR - Corporate Overhead exceeds 10% of budget sections B+C", "")
A33: G | B33: CONTINGENCY | C33: =Detail!K215 -> 0 | E33: =IF(C33>(C19+C23)*0.1, "ERROR - Contingency exceeds 10% of budget sections B+C", "")
B35: TOTAL COSTS | C35: =C10+C19+C23+C27+C30+C32+C33 -> 0 | E35: =IF(C35<>Financing!C17, "ERROR - Budget Total must match Financing Total", "")

Sheet Detail
A1: ONTARIO CREATES INTELLECTUAL PROPERTY FUND Budget and Financing Guidelines and Template Detail Tab
A2: INSTRUCTIONS: Cells highlighted in blue contain formulas, headers, rules and instructions. Do not enter information directly into these cells.
A4: Add rows if more than one person/resource is required for a line item. Be sure to copy formulas to any new rows created. Specify labour units (hours, days, weeks) to be used in the budget. All labour line items must use the same units. Do not override. Cost Allocation, Ontario Expense, Type sections MUST be filled in for your budget to be considered complete.
A7: SELECT LABOUR UNITS | C7: - | D7: Labour units must be specified before entering details below
A10: SECTION A - PRODUCER
A12: 01 | B12: PRODUCER | M12: COST ALLOCATION | P12: ONTARIO EXPENSES
A13: ACCOUNT | B13: CATEGORY | C13: NAME | D13: QTY | E13: DURATION | G13: RATE | H13: COST ALLOCATION | I13: ONTARIO EXPENSE | J13: TYPE | K13: TOTAL | M13: INTERNAL | N13: RELATED | O13: EXTERNAL | P13: TOTAL | Q13: CASH | R13: NON-CASH
E14: number of hours / days / weeks | F14: hours / days / weeks (select unit at the top of the sheet) | G14: $ cost per unit | H14: Internal / Related / External | I14: Yes / No | J14: Deferral / Donation / Discount / In-Kind
A15: Cannot exceed 10% of budget sections B+C if the person listed in this section is a shareholder of the applicant or a related party.
A16: 01.05 | B16: PRODUCER | D16: 1 | F16: =VLOOKUP($C$7,units[],2,FALSE) -> - | K16: =D16*E16*G16 -> 0 | M16: =IF(H16="Internal",K16,"0") -> 0 | N16: =IF(H16="Related",K16,"0") -> 0 | O16: =IF(H16="External",K16,"0") -> 0 | P16: =IF(I16="Yes",K16,"0") -> 0 | Q16: =IF(J16="No",P16,"0") -> 0 | R16: =IF(J16="Yes",P16,"0") -> 0
A17: 01 | B17: TOTAL PRODUCER | E17: =SUM(E16:E16) -> 0 | K17: =SUM(K16) -> 0 | M17: =SUM(M16) -> 0 | N17: =SUM(N16) -> 0 | O17: =SUM(O16) -> 0 | P17: =SUM(P16) -> 0 | Q17: =SUM(Q16) -> 0 | R17: =SUM(R16) -> 0
A19: 02 | B19: RIGHTS ACQUISITION | M19: COST ALLOCATION | P19: ONTARIO EXPENSES
A20: ACCOUNT | B20: CATEGORY | C20: NAME AND/OR DESCRIPTION | H20: COST ALLOCATION | I20: ONTARIO EXPENSE | J20: TYPE | K20: TOTAL | M20: INTERNAL | N20: RELATED | O20: EXTERNAL | P20: TOTAL | Q20: CASH | R20: NON-CASH
H21: Internal / Related / External | I21: Yes / No | J21: Deferral / Donation / Discount / In-Kind
A22: Rights cannot be paid to the applicant or a related party.
A23: 02.05 | B23: STORY RIGHTS | M23: =IF(H23="Internal",K23,"0") -> 0 | N23: =IF(H23="Related",K23,"0") -> 0 | O23: =IF(H23="External",K23,"0") -> 0 | P23: =IF(I23="Yes",K23,"0") -> 0 | Q23: =IF(J23="No",P23,"0") -> 0 | R23: =IF(J23="Yes",P23,"0") -> 0
A24: 02.10 | B24: IMAGE RIGHTS | M24: =IF(H24="Internal",K24,"0") -> 0 | N24: =IF(H24="Related",K24,"0") -> 0 | O24: =IF(H24="External",K24,"0") -> 0 | P24: =IF(I24="Yes",K24,"0") -> 0 | Q24: =IF(J24="No",P24,"0") -> 0 | R24: =IF(J24="Yes",P24,"0") -> 0
A25: 02.15 | B25: SOUND RIGHTS | M25: =IF(H25="Internal",K25,"0") -> 0 | N25: =IF(H25="Related",K25,"0") -> 0 | O25: =IF(H25="External",K25,"0") -> 0 | P25: =IF(I25="Yes",K25,"0") -> 0 | Q25: =IF(J25="No",P25,"0") -> 0 | R25: =IF(J25="Yes",P25,"0") -> 0
A26: 02.20 | B26: LIBRARY FEES | M26: =IF(H26="Internal",K26,"0") -> 0 | N26: =IF(H26="Related",K26,"0") -> 0 | O26: =IF(H26="External",K26,"0") -> 0 | P26: =IF(I26="Yes",K26,"0") -> 0 | Q26: =IF(J26="No",P26,"0") -> 0 | R26: =IF(J26="Yes",P26,"0") -> 0
A27: 02.95 | B27: OTHER RIGHTS | M27: =IF(H27="Internal",K27,"0") -> 0 | N27: =IF(H27="Related",K27,"0") -> 0 | O27: =IF(H27="External",K27,"0") -> 0 | P27: =IF(I27="Yes",K27,"0") -> 0 | Q27: =IF(J27="No",P27,"0") -> 0 | R27: =IF(J27="Yes",P27,"0") -> 0
A28: 02 | B28: TOTAL RIGHTS ACQUISITION | K28: =SUM(K23:K27) -> 0 | M28: =SUM(M23:M27) -> 0 | N28: =SUM(N23:N27) -> 0 | O28: =SUM(O23:O27) -> 0 | P28: =SUM(P23:P27) -> 0 | Q28: =SUM(Q23:Q27) -> 0 | R28: =SUM(R23:R27) -> 0
A30: 03 | B30: PROJECT PROPOSAL PREPARATION | M30: COST ALLOCATION | P30: ONTARIO EXPENSES
A31: ACCOUNT | B31: CATEGORY | C31: NAME AND/OR DESCRIPTION | H31: COST ALLOCATION | I31: ONTARIO EXPENSE | J31: TYPE | K31: TOTAL | M31: INTERNAL | N31: RELATED | O31: EXTERNAL | P31: TOTAL | Q31: CASH | R31: NON-CASH
H32: Internal / Related / External | I32: Yes / No | J32: Deferral / Donation / Discount / In-Kind
A33: 03 | B33: N/A - INELIGIBLE EXPENSE | C33: N/A - Ineligible Expense | H33: N/A | I33: N/A | J33: N/A | K33: 0 | M33: =IF(H33="Internal",K33,"0") -> 0 | N33: =IF(H33="Related",K33,"0") -> 0 | O33: =IF(H33="External",K33,"0") -> 0 | P33: =IF(I33="Yes",K33,"0") -> 0 | Q33: =IF(J33="No",P33,"0") -> 0 | R33: =IF(J33="Yes",P33,"0") -> 0
A34: 03 | B34: TOTAL PROJECT PROPOSAL PREPARATION | K34: =SUM(K33) -> 0 | M34: =SUM(M33) -> 0 | N34: =SUM(N33) -> 0 | O34: =SUM(O33) -> 0 | P34: =SUM(P33) -> 0 | Q34: =SUM(Q33) -> 0 | R34: =SUM(R33) -> 0
A36: SECTION B - TEAM LABOUR
A38: 04 | B38: KEY ROLES | M38: COST ALLOCATION | P38: ONTARIO EXPENSES
A39: ACCOUNT | B39: CATEGORY | C39: NAME | D39: QTY | E39: DURATION | G39: RATE | H39: COST ALLOCATION | I39: ONTARIO EXPENSE | J39: TYPE | K39: TOTAL | M39: INTERNAL | N39: RELATED | O39: EXTERNAL | P39: TOTAL | Q39: CASH | R39: NON-CASH
E40: number of hours / days / weeks | F40: hours / days / weeks (select unit at the top of the sheet) | G40: $ cost per unit | H40: Internal / Related / External | I40: Yes / No | J40: Deferral / Donation / Discount / In-Kind
A41: If the person indicated at account 04.05 is a shareholder of the applicant, co-applicant or parent company, her or his salary as Project Manager or Project Leader must be moved above, at account 01.05.
A42: 04.05 | B42: PROJECT MANAGER / PROJECT LEADER | D42: 1 | F42: =VLOOKUP($C$7,units[],2,FALSE) -> - | K42: =D42*E42*G42 -> 0 | M42: =IF(H42="Internal",K42,"0") -> 0 | N42: =IF(H42="Related",K42,"0") -> 0 | O42: =IF(H42="External",K42,"0") -> 0 | P42: =IF(I42="Yes",K42,"0") -> 0 | Q42: =IF(J42="No",P42,"0") -> 0 | R42: =IF(J42="Yes",P42,"0") -> 0
A43: 04.10 | B43: SYSTEM ARCHITECT | D43: 1 | F43: =VLOOKUP($C$7,units[],2,FALSE) -> - | K43: =D43*E43*G43 -> 0 | M43: =IF(H43="Internal",K43,"0") -> 0 | N43: =IF(H43="Related",K43,"0") -> 0 | O43: =IF(H43="External",K43,"0") -> 0 | P43: =IF(I43="Yes",K43,"0") -> 0 | Q43: =IF(J43="No",P43,"0") -> 0 | R43: =IF(J43="Yes",P43,"0") -> 0
A44: 04.15 | B44: TECHNICAL DIRECTOR | D44: 1 | F44: =VLOOKUP($C$7,units[],2,FALSE) -> - | K44: =D44*E44*G44 -> 0 | M44: =IF(H44="Internal",K44,"0") -> 0 | N44: =IF(H44="Related",K44,"0") -> 0 | O44: =IF(H44="External",K44,"0") -> 0 | P44: =IF(I44="Yes",K44,"0") -> 0 | Q44: =IF(J44="No",P44,"0") -> 0 | R44: =IF(J44="Yes",P44,"0") -> 0
A45: 04.20 | B45: ART DIRECTOR | D45: 1 | F45: =VLOOKUP($C$7,units[],2,FALSE) -> - | K45: =D45*E45*G45 -> 0 | M45: =IF(H45="Internal",K45,"0") -> 0 | N45: =IF(H45="Related",K45,"0") -> 0 | O45: =IF(H45="External",K45,"0") -> 0 | P45: =IF(I45="Yes",K45,"0") -> 0 | Q45: =IF(J45="No",P45,"0") -> 0 | R45: =IF(J45="Yes",P45,"0") -> 0
A46: 04.25 | B46: ANIMATION DIRECTOR | D46: 1 | F46: =VLOOKUP($C$7,units[],2,FALSE) -> - | K46: =D46*E46*G46 -> 0 | M46: =IF(H46="Internal",K46,"0") -> 0 | N46: =IF(H46="Related",K46,"0") -> 0 | O46: =IF(H46="External",K46,"0") -> 0 | P46: =IF(I46="Yes",K46,"0") -> 0 | Q46: =IF(J46="No",P46,"0") -> 0 | R46: =IF(J46="Yes",P46,"0") -> 0
A47: 04.30 | B47: INTERACTIVE DIRECTOR | D47: 1 | F47: =VLOOKUP($C$7,units[],2,FALSE) -> - | K47: =D47*E47*G47 -> 0 | M47: =IF(H47="Internal",K47,"0") -> 0 | N47: =IF(H47="Related",K47,"0") -> 0 | O47: =IF(H47="External",K47,"0") -> 0 | P47: =IF(I47="Yes",K47,"0") -> 0 | Q47: =IF(J47="No",P47,"0") -> 0 | R47: =IF(J47="Yes",P47,"0") -> 0
A48: 04.35 | B48: SENIOR GAME DESIGNER / CREATIVE DIRECTOR | D48: 1 | F48: =VLOOKUP($C$7,units[],2,FALSE) -> - | K48: =D48*E48*G48 -> 0 | M48: =IF(H48="Internal",K48,"0") -> 0 | N48: =IF(H48="Related",K48,"0") -> 0 | O48: =IF(H48="External",K48,"0") -> 0 | P48: =IF(I48="Yes",K48,"0") -> 0 | Q48: =IF(J48="No",P48,"0") -> 0 | R48: =IF(J48="Yes",P48,"0") -> 0
A49: 04.95 | B49: OTHER (specify) | D49: 1 | F49: =VLOOKUP($C$7,units[],2,FALSE) -> - | K49: =D49*E49*G49 -> 0 | M49: =IF(H49="Internal",K49,"0") -> 0 | N49: =IF(H49="Related",K49,"0") -> 0 | O49: =IF(H49="External",K49,"0") -> 0 | P49: =IF(I49="Yes",K49,"0") -> 0 | Q49: =IF(J49="No",P49,"0") -> 0 | R49: =IF(J49="Yes",P49,"0") -> 0
A50: 04 | B50: TOTAL KEY ROLES | E50: =SUM(E42:E49) -> 0 | K50: =SUM(K42:K49) -> 0 | M50: =SUM(M42:M49) -> 0 | N50: =SUM(N42:N49) -> 0 | O50: =SUM(O42:O49) -> 0 | P50: =SUM(P42:P49) -> 0 | Q50: =SUM(Q42:Q49) -> 0 | R50: =SUM(R42:R49) -> 0
...

Sheet Financing
A1: ONTARIO CREATES INTELLECTUAL PROPERTY FUND Budget and Financing Guidelines and Template Financing Tab
A2: INSTRUCTIONS: Cells highlighted in blue contain formulas, headers, rules and instructions. Do not enter information directly into these cells.
A4: Include Ontario Creates request on first line. Include each source on a separate line. Add lines as necessary. *Category: Applicant/Internal/Related Party (including company/owner/employee/contractor), External Party *Confirmed: Yes, No *Type of Financing: Advance, Contribution, Investment, Grant, Industry Fund, License, Loan, Tax Credit, Deferral/Donation/In Kind, Other
A6: Source of Financing | B6: Category* | C6: Amount | D6: Confirmed* | E6: % of Budget | F6: Type of Financing*
A7: Ontario Creates | B7: External Party | E7: =C7/$C$17 -> #DIV/0! | F7: Grant (Cash)
E8: =C8/$C$17 -> #DIV/0!
E9: =C9/$C$17 -> #DIV/0!
E10: =C10/$C$17 -> #DIV/0!
E11: =C11/$C$17 -> #DIV/0!
E12: =C12/$C$17 -> #DIV/0!
E13: =C13/$C$17 -> #DIV/0!
E14: =C14/$C$17 -> #DIV/0!
E15: =C15/$C$17 -> #DIV/0!
E16: =C16/$C$17 -> #DIV/0!
A17: Total Financing | C17: =SUM(C7:C16) -> 0 | E17: =C17/$C$17 -> #DIV/0!
C19: =IF(C17<>Summary!C35, "ERROR - Budget Total must match Financing Total", "")
A34: Yes
A35: No

Sheet Notes
A1: ONTARIO CREATES INTELLECTUAL PROPERTY FUND Budget and Financing Guidelines and Template Notes Tab
A2: INSTRUCTIONS: Cells highlighted in blue contain formulas, headers, rules and instructions. Do not enter information directly into these cells.
A4: Provide notes of explanation for Budget and Financing line items if applicable.
A6: Budget Account/Source of Financing | B6: Category | C6: Notes

Sheet DONOTDELETE
A2: Yes | B2: hours | C2: Applicant/Internal/Related Party | D2: Advance (Cash) | E2: Pre-Production | F2: Internal | G2: toggle | H2: text
A3: No | B3: days | C3: External Party | D3: Investment (Cash) | E3: Production | F3: Related | G3: - | H3: -
B4: weeks | D4: Grant (Cash) | F4: External | G4: hours | H4: hours
D5: Industry Fund - e.g. CMF (Cash) | G5: days | H5: days
D6: License (Cash) | G6: weeks | H6: weeks
B7: flat | D7: Loan (Cash)
B8: hours | D8: Tax Credit (Cash)
B9: days | D9: Deferral/Donation/Discount/In-Kind (Non-Cash)
B10: weeks | D10: Other
